BEGIN:VCALENDAR
VERSION:2.0
PRODID:-//Annemieke Brouwer - ECPv6.3.7//NONSGML v1.0//EN
CALSCALE:GREGORIAN
METHOD:PUBLISH
X-WR-CALNAME:Annemieke Brouwer
X-ORIGINAL-URL:https://zang.annemiekebrouwer.nl
X-WR-CALDESC:Evenementen voor Annemieke Brouwer
REFRESH-INTERVAL;VALUE=DURATION:PT1H
X-Robots-Tag:noindex
X-PUBLISHED-TTL:PT1H
BEGIN:VTIMEZONE
TZID:Europe/Amsterdam
BEGIN:DAYLIGHT
TZOFFSETFROM:+0100
TZOFFSETTO:+0200
TZNAME:CEST
DTSTART:20210328T010000
END:DAYLIGHT
BEGIN:STANDARD
TZOFFSETFROM:+0200
TZOFFSETTO:+0100
TZNAME:CET
DTSTART:20211031T010000
END:STANDARD
BEGIN:DAYLIGHT
TZOFFSETFROM:+0100
TZOFFSETTO:+0200
TZNAME:CEST
DTSTART:20220327T010000
END:DAYLIGHT
BEGIN:STANDARD
TZOFFSETFROM:+0200
TZOFFSETTO:+0100
TZNAME:CET
DTSTART:20221030T010000
END:STANDARD
BEGIN:DAYLIGHT
TZOFFSETFROM:+0100
TZOFFSETTO:+0200
TZNAME:CEST
DTSTART:20230326T010000
END:DAYLIGHT
BEGIN:STANDARD
TZOFFSETFROM:+0200
TZOFFSETTO:+0100
TZNAME:CET
DTSTART:20231029T010000
END:STANDARD
BEGIN:DAYLIGHT
TZOFFSETFROM:+0100
TZOFFSETTO:+0200
TZNAME:CEST
DTSTART:20240331T010000
END:DAYLIGHT
BEGIN:STANDARD
TZOFFSETFROM:+0200
TZOFFSETTO:+0100
TZNAME:CET
DTSTART:20241027T010000
END:STANDARD
END:VTIMEZONE
BEGIN:VEVENT
DTSTART;TZID=Europe/Amsterdam:20240324T120000
DTEND;TZID=Europe/Amsterdam:20240324T130000
DTSTAMP:20260421T183812
CREATED:20240210T213649Z
LAST-MODIFIED:20240210T213821Z
UID:15332-1711281600-1711285200@zang.annemiekebrouwer.nl
SUMMARY:24 maart om 12.00 uur Concert Talent XL leerlingen
DESCRIPTION:Op 24 maart treden de leerlingen van Talent XL op. Zangleerling Noa treedt op met een trio\, viool Mijke Bos -piano Frans de Bruijn en met Duo-parte\, bestaande uit Jula Sent piano en Noa de Goede. De entree is gratis!
URL:https://zang.annemiekebrouwer.nl/agenda/24-maart-om-12-00-uur-concert-talent-xl-leerlingen/
END:VEVENT
BEGIN:VEVENT
DTSTART;TZID=Europe/Amsterdam:20240310T130000
DTEND;TZID=Europe/Amsterdam:20240310T170000
DTSTAMP:20260421T183812
CREATED:20240210T213038Z
LAST-MODIFIED:20240210T213948Z
UID:15326-1710075600-1710090000@zang.annemiekebrouwer.nl
SUMMARY:10 maart Deventer Open Podium
DESCRIPTION:Tijdens Deventer Open Podium staat de Zangstudio er met een informatie stand. Om 15.00 uur treden er enkele zangleerlingen op\, waaronder Emma\, Anne Sophie en Noa in de Kleine Zaal van de Schouwburg. \n 
URL:https://zang.annemiekebrouwer.nl/agenda/10-maart-deventer-open-podium/
END:VEVENT
BEGIN:VEVENT
DTSTART;TZID=Europe/Amsterdam:20231119T133000
DTEND;TZID=Europe/Amsterdam:20231119T170000
DTSTAMP:20260421T183812
CREATED:20231113T140438Z
LAST-MODIFIED:20231113T140721Z
UID:15253-1700400600-1700413200@zang.annemiekebrouwer.nl
SUMMARY:Muziek Maak Middag Deventer Schouwburg
DESCRIPTION:Op Zondag 19 november is de Deventer Muziekmaak Middag in de Schouwburg. \nDe Zangstudio staat er met een stand. Ook geeft zij om 16.30 uur een workshop in de Kleine Zaal en wel een openbare les\, waarin de zaal ook mee kan zingen. \nVoor die kinderen die actief deel hebben genomen is er een blaaspijpje na de les.
URL:https://zang.annemiekebrouwer.nl/agenda/muziek-maak-middag-deventer-schouwburg/
END:VEVENT
BEGIN:VEVENT
DTSTART;TZID=Europe/Amsterdam:20230618T120000
DTEND;TZID=Europe/Amsterdam:20230618T130000
DTSTAMP:20260421T183812
CREATED:20230716T194409Z
LAST-MODIFIED:20230716T194518Z
UID:15222-1687089600-1687093200@zang.annemiekebrouwer.nl
SUMMARY:Slotconcert Talent XL 2023
DESCRIPTION:Op 18 juni is het slotconcert van Talent XL in de kleine zaal van de Schouwburg in Deventer. \nNoa de Goede zal er optreden met twee liederen en een aria begeleid door Joep Walter: \nSüsser Blumen\, Ambra Flocken (F. Händel) \nAu bord de l’eau (G.Faure) \nVoi che sapete (A. Mozart)
URL:https://zang.annemiekebrouwer.nl/agenda/slootconcert-talent-xl-2023/
END:VEVENT
BEGIN:VEVENT
DTSTART;TZID=Europe/Amsterdam:20230424T080000
DTEND;TZID=Europe/Amsterdam:20230424T170000
DTSTAMP:20260421T183812
CREATED:20230424T132332Z
LAST-MODIFIED:20230424T132348Z
UID:15155-1682323200-1682355600@zang.annemiekebrouwer.nl
SUMMARY:15 April Jeugd en Muziek Concours Oost Nederland
DESCRIPTION:Op 15 april treedt het trio Colla Voce met zangleerling Noa\, pianoleerling Jula en vioolleerling Mart op in de voorronden van het JMCO.
URL:https://zang.annemiekebrouwer.nl/agenda/15-april-jeugd-en-muziek-concours-oost-nederland/
END:VEVENT
BEGIN:VEVENT
DTSTART;TZID=Europe/Amsterdam:20230424T080000
DTEND;TZID=Europe/Amsterdam:20230424T170000
DTSTAMP:20260421T183812
CREATED:20230424T132051Z
LAST-MODIFIED:20230424T132200Z
UID:15151-1682323200-1682355600@zang.annemiekebrouwer.nl
SUMMARY:Talent XL optreden in de Penninckshoek te Deventer
DESCRIPTION:Op 26 maart treden de Talent XL leerlingen op in de Penninckshoek te Deventer. \nZangleerling Noa neemt deel met haar trio Colla Voce met een stuk van Rimsky Korsakov De Nachtegaal en een stuk van Joseph Haydn The Lass of Lochroyan. \n 
URL:https://zang.annemiekebrouwer.nl/agenda/talent-xl-optreden-in-de-penninckshoek-te-deventer/
END:VEVENT
BEGIN:VEVENT
DTSTART;TZID=Europe/Amsterdam:20230205T121500
DTEND;TZID=Europe/Amsterdam:20230205T170000
DTSTAMP:20260421T183812
CREATED:20230205T085509Z
LAST-MODIFIED:20230221T170047Z
UID:15085-1675599300-1675616400@zang.annemiekebrouwer.nl
SUMMARY:Deventer Open Podium 5 & 12 maart 2023
DESCRIPTION:DOP \nDeventer Open Podium vindt dit jaar plaats gedurende vijf en twaalf maart. \nDe Zangstudio treedt op in de kleine zaal op vijf maart om 15.00 uur. \nIn 2023 treden we alleen op en zijn er geen stands.  \n(Foto’s van voorgaande markten en DOP) \n  \n \n 
URL:https://zang.annemiekebrouwer.nl/agenda/deventer-open-podium-5-12-maart-2023/
END:VEVENT
BEGIN:VEVENT
DTSTART;TZID=Europe/Amsterdam:20221218T153000
DTEND;TZID=Europe/Amsterdam:20221218T163000
DTSTAMP:20260421T183812
CREATED:20221208T205322Z
LAST-MODIFIED:20221208T211205Z
UID:15071-1671377400-1671381000@zang.annemiekebrouwer.nl
SUMMARY:Stiftskerk Weerselo
DESCRIPTION:Festival of Nine Lessons and Carols\n \nFestival of Nine Lessons and Carols \nZondagmiddag 18 december om 15.30 uur is er traditiegetrouw het ‘Festival of Nine Lessons and Carols’ in de Stiftskerk met medewerking van het koor La Colombe. Het verhaal van Advent en Kerst wordt gelezen en gezongen. Liederen (Carols en Anthems) en lezingen wisselen elkaar af. Sommige liederen kunnen meegezongen worden. \nDeze van oorsprong Engelse traditie is ontstaan in 1880 en bedacht door E.W. Benson\, priester en later aartsbisschop van Canterburry. Het was bedoeld om mensen te bereiken die niet vaak in de kerk kwamen. Het werd in 1918 opgepikt door Eric Milner-White van het Kings College Cambridge. Sinds 1928 wordt het live uitgezonden door de BBC en het is een traditie geworden rond de kerst. Het is een toegankelijk moment ter voorbereiding op het komende kerstfeest. De entree is vrij\, maar een ruimhartige vrije gift na afloop wordt zeer op prijs gesteld. De Werkgroep Muziek en Bezinning organiseert drie keer per jaar een middagconcert en hoopt dat ook in de toekomst te kunnen blijven doen dankzij uw financiële steun. \nNa afloop wordt u een gratis drankje aangeboden in de Stiftsschool.  \n(Annemieke zingt als alt mee in het La Colombe Ensemble).
URL:https://zang.annemiekebrouwer.nl/agenda/stiftskerk-weerselo/
END:VEVENT
BEGIN:VEVENT
DTSTART;TZID=Europe/Amsterdam:20220924T200000
DTEND;TZID=Europe/Amsterdam:20220924T213000
DTSTAMP:20260421T183812
CREATED:20220302T162038Z
LAST-MODIFIED:20220611T235109Z
UID:14600-1664049600-1664055000@zang.annemiekebrouwer.nl
SUMMARY:Concert Driever Duitsland
DESCRIPTION:  \n \nMet op het programma Sommermatten: \n\nAs Torrents in Summer (E. Elgar)   \nBrigg Fair (P.Grainger)        \nAn die Sterne (R. Schumann)                                                        \nDer Tod\, das ist die kühle Nacht (P. Cornelius)\nO Mistress Mine (W. Harris) \nWanderer’s Nachtlied (A. Diepenbrock)                  \nSommarnatten (E. Rautavara)\nStars (E.Essenveld)              \nUn beau Baiser (A. Diepenbrock)\nThe Night (T. Young)\nFair is the Heaven (W. Harris)                   \nNun da der Tag\, des Tages müde ward (P.Hindemith)     \nJeg gik mig ud en sommerdag (Volkslied uit Denemarken. ArrJ. Hoybye).\nRomance (C.Saint Saens)\nAftonen (H.Alfvén)\nBlackbird (J. Leonard/P.Mccartney arr. Ko Duivenstein)\nTime will ease (H. Stoeten)\n\n  \nMeer informatie over de locatie volgt z.s.m. \nAanvang: 20.00 uur \nOp deze website is meer informatie over het programma Sommermatten te lezen. \n(Annemieke zingt tweede alt in dit vocale ensemble)
URL:https://zang.annemiekebrouwer.nl/agenda/concert-driever-duitsland/
END:VEVENT
BEGIN:VEVENT
DTSTART;TZID=Europe/Amsterdam:20220721T080000
DTEND;TZID=Europe/Amsterdam:20220721T170000
DTSTAMP:20260421T183812
CREATED:20220721T091332Z
LAST-MODIFIED:20220721T091421Z
UID:14770-1658390400-1658422800@zang.annemiekebrouwer.nl
SUMMARY:Vakantie Annemieke
DESCRIPTION:Van 24 juli t/m 31 juli is onze jaarlijkse fiets vaar vakantie met vrienden en familie en al 20 jaar met deze boot Waterland. \n   \n  \n 
URL:https://zang.annemiekebrouwer.nl/agenda/vakantie-annemieke/
END:VEVENT
BEGIN:VEVENT
DTSTART;TZID=Europe/Amsterdam:20220710T140000
DTEND;TZID=Europe/Amsterdam:20220710T144500
DTSTAMP:20260421T183812
CREATED:20220302T161948Z
LAST-MODIFIED:20220612T062024Z
UID:14598-1657461600-1657464300@zang.annemiekebrouwer.nl
SUMMARY:Concert Rijksmuseum Twente - Aanvang 14.00 uur & 15.30 uur (kort programma)
DESCRIPTION:  \n \nMet muziekstukken uit het programma Sommermatten: \nWanderer’s Nachtlied A. Diepenbrock \nUn beau Baiser A. Diepenbrock \nBrigg Fair P.Grainger \nSommarnatten E. Rautavara \nStars E.Essenveld \nThe Night T. Young \nO Mistress Mine W. Harris \nFair is the Heaven W. Harris \nAs Torrents in Summer E. Elgar \nDer Tod\, das ist die kühle Nacht P. Cornelius \nLocatie: Rijksmuseum Twente \nAanvang: 14.00 uur \n(Annemieke zingt tweede alt in dit vocale ensemble)
URL:https://zang.annemiekebrouwer.nl/agenda/rijksmuseum-twente/
END:VEVENT
BEGIN:VEVENT
DTSTART;TZID=Europe/Amsterdam:20220709T200000
DTEND;TZID=Europe/Amsterdam:20220709T213000
DTSTAMP:20260421T183812
CREATED:20220302T161912Z
LAST-MODIFIED:20220611T234937Z
UID:14596-1657396800-1657402200@zang.annemiekebrouwer.nl
SUMMARY:Concert Cosmos Sterrenwacht Lattrop - 20.00 uur
DESCRIPTION:  \n \nMet op het programma Sommermatten: \n\nAs Torrents in Summer (E. Elgar)   \nBrigg Fair (P.Grainger)        \nAn die Sterne (R. Schumann)                                                        \nDer Tod\, das ist die kühle Nacht (P. Cornelius)\nO Mistress Mine (W. Harris) \nWanderer’s Nachtlied (A. Diepenbrock)                  \nSommarnatten (E. Rautavara)\nStars (E.Essenveld)              \nUn beau Baiser (A. Diepenbrock)\nThe Night (T. Young)\nFair is the Heaven (W. Harris)                   \nNun da der Tag\, des Tages müde ward (P.Hindemith)     \nJeg gik mig ud en sommerdag (Volkslied uit Denemarken. ArrJ. Hoybye).\nRomance (C.Saint Saens)\nAftonen (H.Alfvén)\nBlackbird (J. Leonard/P.Mccartney arr. Ko Duivenstein)\nTime will ease (H. Stoeten)\n\n  \nLocatie: Cosmos Sterrenwacht\, Lattrop \nAanvang: 20.00 uur \nKijk gerust voor meer informatie over Sommermatten op https://exicon.org \n(Annemieke zingt tweede alt in dit vocale ensemble)t
URL:https://zang.annemiekebrouwer.nl/agenda/lattrop-sterrenwacht/
END:VEVENT
BEGIN:VEVENT
DTSTART;TZID=Europe/Amsterdam:20220708T200000
DTEND;TZID=Europe/Amsterdam:20220708T213000
DTSTAMP:20260421T183812
CREATED:20220302T161019Z
LAST-MODIFIED:20220611T234825Z
UID:14591-1657310400-1657315800@zang.annemiekebrouwer.nl
SUMMARY:Concert Oude Blasisus Delden 20.00 uur
DESCRIPTION:  \n \nMet het programma Sommermatten: \n\nAs Torrents in Summer (E. Elgar)   \nBrigg Fair (P.Grainger)        \nAn die Sterne (R. Schumann)                                                        \nDer Tod\, das ist die kühle Nacht (P. Cornelius)\nO Mistress Mine (W. Harris) \nWanderer’s Nachtlied (A. Diepenbrock)                  \nSommarnatten (E. Rautavara)\nStars (E.Essenveld)              \nUn beau Baiser (A. Diepenbrock)\nThe Night (T. Young)\nFair is the Heaven (W. Harris)                   \nNun da der Tag\, des Tages müde ward (P.Hindemith)     \nJeg gik mig ud en sommerdag (Volkslied uit Denemarken. ArrJ. Hoybye).\nRomance (C.Saint Saens)\nAftonen (H.Alfvén)\nBlackbird (J. Leonard/P.Mccartney arr. Ko Duivenstein)\nTime will ease (H. Stoeten)\n\nLocatie: Oude Blasius Delden \nAanvang: 20.00 uur \nKijk gerust voor meer informatie over Sommermatten op onze website https://exicon.org \n(Annemieke zingt tweede alt in dit vocale ensemble)
URL:https://zang.annemiekebrouwer.nl/agenda/eefde-kapel-op-het-rijselt/
END:VEVENT
BEGIN:VEVENT
DTSTART;TZID=Europe/Amsterdam:20220703T153000
DTEND;TZID=Europe/Amsterdam:20220703T170000
DTSTAMP:20260421T183812
CREATED:20220302T161217Z
LAST-MODIFIED:20220618T162932Z
UID:14594-1656862200-1656867600@zang.annemiekebrouwer.nl
SUMMARY:Concert Eefde Kapel op het Rijsselt - Aanvang 15.30 uur
DESCRIPTION:  \n \nProgramma Sommermatten \n  \n\nAs Torrents in Summer (E. Elgar)   \nBrigg Fair (P.Grainger)        \nAn die Sterne (R. Schumann)                                                        \nDer Tod\, das ist die kühle Nacht (P. Cornelius)\nO Mistress Mine (W. Harris) \nWanderer’s Nachtlied (A. Diepenbrock)                  \nSommarnatten (E. Rautavara)\nStars (E.Essenveld)              \nUn beau Baiser (A. Diepenbrock)\nThe Night (T. Young)\nFair is the Heaven (W. Harris)                   \nNun da der Tag\, des Tages müde ward (P.Hindemith)     \nJeg gik mig ud en sommerdag (Volkslied uit Denemarken. ArrJ. Hoybye).\nRomance (C.Saint Saens)\nAftonen (H.Alfvén)\nBlackbird (J. Leonard/P.Mccartney arr. Ko Duivenstein)\nTime will ease (H. Stoeten)\n\n  \nLocatie: Kapel op het Rijsselt in Eefde \nAanvang: 15.30 uur \nKijk gerust voor meer informatie over ons programma Sommermatten op onze website. \n(Annemieke zingt tweede alt in dit vocale ensemble)
URL:https://zang.annemiekebrouwer.nl/agenda/eefde-kapel-op-het-rijsselt/
END:VEVENT
BEGIN:VEVENT
DTSTART;TZID=Europe/Amsterdam:20220626T113000
DTEND;TZID=Europe/Amsterdam:20220626T123000
DTSTAMP:20260421T183812
CREATED:20220618T162345Z
LAST-MODIFIED:20220618T162833Z
UID:14715-1656243000-1656246600@zang.annemiekebrouwer.nl
SUMMARY:Koffieconcert in het kerkje in Gorssel
DESCRIPTION:Kijk hier voor meer informatie! \nHoofdstraat 27\, 7213 CN Gorssel \n \n 
URL:https://zang.annemiekebrouwer.nl/agenda/koffieconcert-in-het-kerkje-in-gorssel/
LOCATION:Kerkje in Gorssel\, Gorssel
END:VEVENT
BEGIN:VEVENT
DTSTART;TZID=Europe/Amsterdam:20220612T163000
DTEND;TZID=Europe/Amsterdam:20220612T170000
DTSTAMP:20260421T183812
CREATED:20220611T230219Z
LAST-MODIFIED:20220612T061725Z
UID:14668-1655051400-1655053200@zang.annemiekebrouwer.nl
SUMMARY:WAK optreden de Wonne - Optreden Korendag Enschede (in 't kader masterexamen)
DESCRIPTION:Op 11 juni treden we op in de Wintertuin de Wonne in Enschede om 15.30 uur. Aansluitend treden we op om 16.30 uur tijdens de korendag Enschede (In het kader van het masterexamen van Jurriaan Poesse). \nBeide optredens zijn in het kader van de aankondiging voor ons nieuwe programma Sommermatten! Vanmiddag daarbij met een wereldpremiere van de speciaal voor Exicon geschreven compositie Time will ease door componist Henk Stoeten. \nKlik voor meer informatie op: Meet the Choir \n 
URL:https://zang.annemiekebrouwer.nl/agenda/wak-optreden-de-wonne-optreden-korendag-enschede-in-t-kader-masterexamen/
END:VEVENT
BEGIN:VEVENT
DTSTART;TZID=Europe/Amsterdam:20210926T150000
DTEND;TZID=Europe/Amsterdam:20210926T180000
DTSTAMP:20260421T183812
CREATED:20210916T175049Z
LAST-MODIFIED:20220302T155810Z
UID:14424-1632668400-1632679200@zang.annemiekebrouwer.nl
SUMMARY:Annemieke treedt op bij een bruiloft
DESCRIPTION:Meer informatie volgt.
URL:https://zang.annemiekebrouwer.nl/agenda/annemieke-treedt-op-bij-een-bruiloft/
END:VEVENT
BEGIN:VEVENT
DTSTART;TZID=Europe/Amsterdam:20210920T203000
DTEND;TZID=Europe/Amsterdam:20210920T220000
DTSTAMP:20260421T183812
CREATED:20210814T211322Z
LAST-MODIFIED:20210814T211324Z
UID:14393-1632169800-1632175200@zang.annemiekebrouwer.nl
SUMMARY:Open Lessen
DESCRIPTION:“Geef een familielid\, vriend of kennis een cadeaubon cadeau” \n  \nOpen Lessen \nOp maandagavond 6 en 20 september geeft de Zangstudio Open Lessen van 19.30 tot 21.00 uur. \nAanmelden kan via info@annemiekebrouwer.nl met daarbij vermeld de voorkeursdatum en voorkeurstijd.Open Lesse
URL:https://zang.annemiekebrouwer.nl/agenda/open-lessen/
END:VEVENT
BEGIN:VEVENT
DTSTART;TZID=Europe/Amsterdam:20210910T203000
DTEND;TZID=Europe/Amsterdam:20210910T213000
DTSTAMP:20260421T183812
CREATED:20210814T202808Z
LAST-MODIFIED:20210814T203055Z
UID:14381-1631305800-1631309400@zang.annemiekebrouwer.nl
SUMMARY:Open Up- Wac maand september 2021
DESCRIPTION:Kijk voor meer informatie over hoe je de Zangstudio kan leren kennen bij Open Up\, de WAC maand september. \nDe Zangstudio heeft zich aangemeld voor optredens van een uur van de diverse zangleerlingen van de Zangstudio op vrijdagavond 10 en 24 september in de foyer van Kunstcircuit\, Keizerstraat 70\, 7411 HH Deventer. Wij wachten nog op een reactie of dit daadwerkelijk kan doorgaan. Wordt vervolgd! \n  \n \n \n 
URL:https://zang.annemiekebrouwer.nl/agenda/14381/
END:VEVENT
BEGIN:VEVENT
DTSTART;TZID=Europe/Amsterdam:20210906T203000
DTEND;TZID=Europe/Amsterdam:20210906T220000
DTSTAMP:20260421T183812
CREATED:20210814T211557Z
LAST-MODIFIED:20210814T211559Z
UID:14397-1630960200-1630965600@zang.annemiekebrouwer.nl
SUMMARY:Open Lessen
DESCRIPTION:“Geef een familielid\, vriend of kennis een cadeaubon cadeau” \n  \nOpen Lessen \nOp maandagavond 6 en 20 september geeft de Zangstudio Open Lessen van 19.30 tot 21.00 uur. \nAanmelden kan via info@annemiekebrouwer.nl met daarbij vermeld de voorkeursdatum en voorkeurstijd.
URL:https://zang.annemiekebrouwer.nl/agenda/open-lessen-2/
END:VEVENT
BEGIN:VEVENT
DTSTART;TZID=Europe/Amsterdam:20210902T210000
DTEND;TZID=Europe/Amsterdam:20210902T220000
DTSTAMP:20260421T183812
CREATED:20210814T212805Z
LAST-MODIFIED:20210814T213040Z
UID:14405-1630616400-1630620000@zang.annemiekebrouwer.nl
SUMMARY:Vocaal Kwartet 2 online met Jamulus
DESCRIPTION:Op donderdagavond 2 september start Vocaal Ensemble 2 online met Jamulus. \nEr zijn drie nieuwe zangers\, een sopraan\, een mezzo en een tenor\, die op proef komen meezingen\, waarna gekeken wordt of zij in Vocaal Kwartet 2 of 3 gaan repeteren. De beide kwartetten gaan ook samenrepeteren. \nMeer informatie volgt z.s.m. 
URL:https://zang.annemiekebrouwer.nl/agenda/vocaal-kwartet-2/
END:VEVENT
BEGIN:VEVENT
DTSTART;TZID=Europe/Amsterdam:20210824T203000
DTEND;TZID=Europe/Amsterdam:20210824T213000
DTSTAMP:20260421T183812
CREATED:20210814T212037Z
LAST-MODIFIED:20210814T212111Z
UID:14400-1629837000-1629840600@zang.annemiekebrouwer.nl
SUMMARY:Vocaal Kwartet 3 online met Jamulus
DESCRIPTION:Op 24 augustus start het Vocaal Kwartet 3 online met Jamulus. \nMeer informatie volgt z.s.m.
URL:https://zang.annemiekebrouwer.nl/agenda/vocaal-kwartet-3-online-met-jamulus/
END:VEVENT
BEGIN:VEVENT
DTSTART;TZID=Europe/Amsterdam:20210814T090000
DTEND;TZID=Europe/Amsterdam:20210814T180000
DTSTAMP:20260421T183812
CREATED:20210814T203404Z
LAST-MODIFIED:20210814T203407Z
UID:14386-1628931600-1628964000@zang.annemiekebrouwer.nl
SUMMARY:Open Up - Wac maand september 2021
DESCRIPTION: \n\nseptember 24 @ 19:30 – 20:30\n\n\n\n\n	« Zomerzangles gedurende de Zomervakantie\n\n\n\n\n\nKijk voor meer informatie over hoe je de Zangstudio kan leren kennen bij Open Up\, de WAC maand september. \nDe Zangstudio heeft zich aangemeld voor optredens van een uur van de diverse zangleerlingen van de Zangstudio op vrijdagavond 10 en 24 september in de foyer van Kunstcircuit\, Keizerstraat 70\, 7411 HH Deventer. Wij wachten nog op een reactie of dit daadwerkelijk kan doorgaan. Wordt vervolgd! \n \n\nCadeaubon Zangles Zangstudio
URL:https://zang.annemiekebrouwer.nl/agenda/open-up-wac-maand-september-2021/
END:VEVENT
BEGIN:VEVENT
DTSTART;TZID=Europe/Amsterdam:20210806T203000
DTEND;TZID=Europe/Amsterdam:20210806T220000
DTSTAMP:20260421T183812
CREATED:20210814T210938Z
LAST-MODIFIED:20210814T211225Z
UID:14389-1628281800-1628287200@zang.annemiekebrouwer.nl
SUMMARY:Open zanglessen
DESCRIPTION:  \n“Geef een familielid\, vriend of kennis een cadeaubon cadeau” \n  \nOpen Lessen \nOp maandagavond 6 en 20 september geeft de Zangstudio Open Lessen van 19.30 tot 21.00 uur. \nAanmelden kan via info@annemiekebrouwer.nl met daarbij vermeld de voorkeursdatum en voorkeurstijd.
URL:https://zang.annemiekebrouwer.nl/agenda/open-zanglessen/
END:VEVENT
BEGIN:VEVENT
DTSTART;TZID=Europe/Amsterdam:20210710T090000
DTEND;TZID=Europe/Amsterdam:20210822T180000
DTSTAMP:20260421T183812
CREATED:20210814T201408Z
LAST-MODIFIED:20210814T202028Z
UID:14373-1625907600-1629655200@zang.annemiekebrouwer.nl
SUMMARY:Zomerzangles gedurende de Zomervakantie
DESCRIPTION:Tijdens de zomervakantie is het mogelijk bij de Zangstudio zomerzanglessen te volgen ofwel ZizZ= Zin in Zomerzangles! \nIn de week van 22 augustus start het nieuwe cursusjaar 2021-2022. \n \n 
URL:https://zang.annemiekebrouwer.nl/agenda/zomerzangles-gedurende-de-zomervakantie/
END:VEVENT
BEGIN:VEVENT
DTSTART;TZID=Europe/Amsterdam:20210619T153000
DTEND;TZID=Europe/Amsterdam:20210619T163000
DTSTAMP:20260421T183812
CREATED:20210508T104449Z
LAST-MODIFIED:20210604T205615Z
UID:14139-1624116600-1624120200@zang.annemiekebrouwer.nl
SUMMARY:Optie Buitenoptreden  Verzorgingshuis Humanitas
DESCRIPTION:Een groep zangleerlingen is bezig met het voorbereiden van een buiten optreden bij verzorgingshuis Humanitas. \nHet is een pilot optreden voor Stichting Zangcultuur Deventer. \nDaphne Jager van het Duo Lorriens zingt mee\, Menno Nijkamp\, Annelies Drost\, Marie ( 5 jr)\, Annelie Meilof (8 jr)\, Flore Meilof (4 jr)\, Annabel Markenstein (16 jr)\, Hillie Jansen van het Laar\, Jet Weigand\, Eavan Hummel\, Lin Wuis  e.a. \nHet programma zal bestaan uit ballads\, schlagers\, diverse musicalliederen uit The Sound of Music op verzoek van een meisje van vijf\, Oud Hollandse meezing liedjes\, popliederen en klassiek zang. Meer informatie volgt z.s.m.
URL:https://zang.annemiekebrouwer.nl/agenda/buitenoptreden-verzorgingshuis-humanitas/
END:VEVENT
BEGIN:VEVENT
DTSTART;TZID=Europe/Amsterdam:20210604T201500
DTEND;TZID=Europe/Amsterdam:20210604T221500
DTSTAMP:20260421T183812
CREATED:20210508T130232Z
LAST-MODIFIED:20210525T161043Z
UID:14160-1622837700-1622844900@zang.annemiekebrouwer.nl
SUMMARY:Basso Continue Ensemble repeteert tweewekelijks op dinsdagavond in de even weken. Zangers mogen zich ervoor aanmelden:
DESCRIPTION:Op de dinsdagavond tweewekelijks repeteert het Basso Continuo Ensemble met Luitist\, Barokcellist\, Klaveciniste. \nZij hebben de eerste barokklas begeleid. \nOp het programma van de 1ste barokklas online stond: \nAmor qu’attendi (Caccini) \nAl fonto al prato (Caccini) \nFlow my tears (Downland) \nDido’s Lament (Purcell) \nMusic for a while  (Purcell) \nKwartetzang:  \nNow I see thy looks are feigned (Thomas Ford) \nCome again (Dowland) \nMomenteel zoeken zij naar uitbreiding met barokviolisten om meer repertoire aan te kunnen bieden. \nZangers kunnen gedurende een half uur a 45 minuten hun repertoire komen voorbereiden voor de volgende barokklas en masterclass o.l.v. Jan Cizmar. \nOp 4 mei zong Jet Weigand mee met Fortune my foe. \nOp 18 mei zingt Ton Gerrits mee met If music be the food of love. \nRuim vooraf zijn hun stukken aan het ensemble toegestuurd. \n  \nNieuw repertoire: \nIf music be the food of love (Purcell) \nParatum Cor Meum (Schutz) \nFortune my foe (Dowland) \n 
URL:https://zang.annemiekebrouwer.nl/agenda/basso-continue-ensemble-repeteert-zangers-mogen-zich-ervoor-aanmelden/
END:VEVENT
BEGIN:VEVENT
DTSTART;TZID=Europe/Amsterdam:20210531T143000
DTEND;TZID=Europe/Amsterdam:20210531T153000
DTSTAMP:20260421T183812
CREATED:20210508T125342Z
LAST-MODIFIED:20210525T161313Z
UID:14155-1622471400-1622475000@zang.annemiekebrouwer.nl
SUMMARY:Vocaal Kwartet 1 wekelijks op de maandagmiddag
DESCRIPTION:Elke maandagmiddag van 13.30 tot 14.30 zingt een vocaal kwartet met vier musici diverse stukken om te leren zo muzikaal mogelijk online in Jamulus te werken\, om te genieten\, om samen te zingen op hoog niveau\, om wellicht zelfs binnenkort met de Worldjam mee te zingen. Daar hoor je nog geen klassiek zang\, wat wij graag doorbreken. \nMet o.a. op het programma: \nO magnum Mysterium (Tomas de Victoria) \nCome again sweet Love ( John Dowland) \nNow I see thy looks are feigned (Thomas Ford) \nMille regretz (Josquin des Prez) \nAve Maria (Josquin des Prez) \nFair Phillys I saw (John Farmer 1570-1601) \nDriestemmig: \nPiu non si Trovano (Mozart) \nLuci care (Mozart) \nCon coga Mas (Juan Encine) \n  \n 
URL:https://zang.annemiekebrouwer.nl/agenda/vocaal-kwartet-1-wekelijks-op-de-maandagmiddag/
END:VEVENT
BEGIN:VEVENT
DTSTART;TZID=Europe/Amsterdam:20210528T090000
DTEND;TZID=Europe/Amsterdam:20210528T180000
DTSTAMP:20260421T183812
CREATED:20210527T144803Z
LAST-MODIFIED:20210527T144803Z
UID:14268-1622192400-1622224800@zang.annemiekebrouwer.nl
SUMMARY:Liedjesgroep\, tweewekelijks\, altijd in de even weken!
DESCRIPTION:In de even weken vindt de liedjesgroep plaats. \nDe jongste zangertjes zijn vier en de oudste is 10 jaar. \nMomenteel zijn we één keer weer samen wezen zingen in het plantsoen. \nMorgen vrijdag 28 mei is de eerste Liedjesgroep weer binnen bij Kunstcircuit in lokaal 205 in Deventer om 16.00 uur tot 16.30 uur.  \nLiedjesgroep
URL:https://zang.annemiekebrouwer.nl/agenda/liedjesgroep-tweewekelijks-altijd-in-de-even-weken/
END:VEVENT
BEGIN:VEVENT
DTSTART;TZID=Europe/Amsterdam:20210528T090000
DTEND;TZID=Europe/Amsterdam:20210528T180000
DTSTAMP:20260421T183812
CREATED:20210527T144346Z
LAST-MODIFIED:20210527T153759Z
UID:14265-1622192400-1622224800@zang.annemiekebrouwer.nl
SUMMARY:Live zanglessen
DESCRIPTION:Op vrijdag vinden er wekelijks de hele dag live zanglessen plaats bij Kunstcircuit in Deventer. \nOok op woensdagmiddag is dit tweewekelijks mogelijk. \nAan het Bergschild vinden de overige live zanglessen plaats. \nMocht je liever online zangles in Jamulus krijgen\, laat het me weten. \n \nHillie\, Peter \nGaudi  Minne  Annelies  \n  \n 
URL:https://zang.annemiekebrouwer.nl/agenda/live-zanglessen/
END:VEVENT
END:VCALENDAR