BEGIN:VCALENDAR
VERSION:2.0
PRODID:-//Annemieke Brouwer - ECPv6.3.7//NONSGML v1.0//EN
CALSCALE:GREGORIAN
METHOD:PUBLISH
X-WR-CALNAME:Annemieke Brouwer
X-ORIGINAL-URL:https://zang.annemiekebrouwer.nl
X-WR-CALDESC:Evenementen voor Annemieke Brouwer
REFRESH-INTERVAL;VALUE=DURATION:PT1H
X-Robots-Tag:noindex
X-PUBLISHED-TTL:PT1H
BEGIN:VTIMEZONE
TZID:Europe/Amsterdam
BEGIN:DAYLIGHT
TZOFFSETFROM:+0100
TZOFFSETTO:+0200
TZNAME:CEST
DTSTART:20210328T010000
END:DAYLIGHT
BEGIN:STANDARD
TZOFFSETFROM:+0200
TZOFFSETTO:+0100
TZNAME:CET
DTSTART:20211031T010000
END:STANDARD
END:VTIMEZONE
BEGIN:VEVENT
DTSTART;TZID=Europe/Amsterdam:20210902T210000
DTEND;TZID=Europe/Amsterdam:20210902T220000
DTSTAMP:20260423T114500
CREATED:20210814T212805Z
LAST-MODIFIED:20210814T213040Z
UID:14405-1630616400-1630620000@zang.annemiekebrouwer.nl
SUMMARY:Vocaal Kwartet 2 online met Jamulus
DESCRIPTION:Op donderdagavond 2 september start Vocaal Ensemble 2 online met Jamulus. \nEr zijn drie nieuwe zangers\, een sopraan\, een mezzo en een tenor\, die op proef komen meezingen\, waarna gekeken wordt of zij in Vocaal Kwartet 2 of 3 gaan repeteren. De beide kwartetten gaan ook samenrepeteren. \nMeer informatie volgt z.s.m. 
URL:https://zang.annemiekebrouwer.nl/agenda/vocaal-kwartet-2/
END:VEVENT
BEGIN:VEVENT
DTSTART;TZID=Europe/Amsterdam:20210824T203000
DTEND;TZID=Europe/Amsterdam:20210824T213000
DTSTAMP:20260423T114500
CREATED:20210814T212037Z
LAST-MODIFIED:20210814T212111Z
UID:14400-1629837000-1629840600@zang.annemiekebrouwer.nl
SUMMARY:Vocaal Kwartet 3 online met Jamulus
DESCRIPTION:Op 24 augustus start het Vocaal Kwartet 3 online met Jamulus. \nMeer informatie volgt z.s.m.
URL:https://zang.annemiekebrouwer.nl/agenda/vocaal-kwartet-3-online-met-jamulus/
END:VEVENT
BEGIN:VEVENT
DTSTART;TZID=Europe/Amsterdam:20210814T090000
DTEND;TZID=Europe/Amsterdam:20210814T180000
DTSTAMP:20260423T114500
CREATED:20210814T203404Z
LAST-MODIFIED:20210814T203407Z
UID:14386-1628931600-1628964000@zang.annemiekebrouwer.nl
SUMMARY:Open Up - Wac maand september 2021
DESCRIPTION: \n\nseptember 24 @ 19:30 – 20:30\n\n\n\n\n	« Zomerzangles gedurende de Zomervakantie\n\n\n\n\n\nKijk voor meer informatie over hoe je de Zangstudio kan leren kennen bij Open Up\, de WAC maand september. \nDe Zangstudio heeft zich aangemeld voor optredens van een uur van de diverse zangleerlingen van de Zangstudio op vrijdagavond 10 en 24 september in de foyer van Kunstcircuit\, Keizerstraat 70\, 7411 HH Deventer. Wij wachten nog op een reactie of dit daadwerkelijk kan doorgaan. Wordt vervolgd! \n \n\nCadeaubon Zangles Zangstudio
URL:https://zang.annemiekebrouwer.nl/agenda/open-up-wac-maand-september-2021/
END:VEVENT
BEGIN:VEVENT
DTSTART;TZID=Europe/Amsterdam:20210806T203000
DTEND;TZID=Europe/Amsterdam:20210806T220000
DTSTAMP:20260423T114500
CREATED:20210814T210938Z
LAST-MODIFIED:20210814T211225Z
UID:14389-1628281800-1628287200@zang.annemiekebrouwer.nl
SUMMARY:Open zanglessen
DESCRIPTION:  \n“Geef een familielid\, vriend of kennis een cadeaubon cadeau” \n  \nOpen Lessen \nOp maandagavond 6 en 20 september geeft de Zangstudio Open Lessen van 19.30 tot 21.00 uur. \nAanmelden kan via info@annemiekebrouwer.nl met daarbij vermeld de voorkeursdatum en voorkeurstijd.
URL:https://zang.annemiekebrouwer.nl/agenda/open-zanglessen/
END:VEVENT
BEGIN:VEVENT
DTSTART;TZID=Europe/Amsterdam:20210710T090000
DTEND;TZID=Europe/Amsterdam:20210822T180000
DTSTAMP:20260423T114500
CREATED:20210814T201408Z
LAST-MODIFIED:20210814T202028Z
UID:14373-1625907600-1629655200@zang.annemiekebrouwer.nl
SUMMARY:Zomerzangles gedurende de Zomervakantie
DESCRIPTION:Tijdens de zomervakantie is het mogelijk bij de Zangstudio zomerzanglessen te volgen ofwel ZizZ= Zin in Zomerzangles! \nIn de week van 22 augustus start het nieuwe cursusjaar 2021-2022. \n \n 
URL:https://zang.annemiekebrouwer.nl/agenda/zomerzangles-gedurende-de-zomervakantie/
END:VEVENT
BEGIN:VEVENT
DTSTART;TZID=Europe/Amsterdam:20210619T153000
DTEND;TZID=Europe/Amsterdam:20210619T163000
DTSTAMP:20260423T114500
CREATED:20210508T104449Z
LAST-MODIFIED:20210604T205615Z
UID:14139-1624116600-1624120200@zang.annemiekebrouwer.nl
SUMMARY:Optie Buitenoptreden  Verzorgingshuis Humanitas
DESCRIPTION:Een groep zangleerlingen is bezig met het voorbereiden van een buiten optreden bij verzorgingshuis Humanitas. \nHet is een pilot optreden voor Stichting Zangcultuur Deventer. \nDaphne Jager van het Duo Lorriens zingt mee\, Menno Nijkamp\, Annelies Drost\, Marie ( 5 jr)\, Annelie Meilof (8 jr)\, Flore Meilof (4 jr)\, Annabel Markenstein (16 jr)\, Hillie Jansen van het Laar\, Jet Weigand\, Eavan Hummel\, Lin Wuis  e.a. \nHet programma zal bestaan uit ballads\, schlagers\, diverse musicalliederen uit The Sound of Music op verzoek van een meisje van vijf\, Oud Hollandse meezing liedjes\, popliederen en klassiek zang. Meer informatie volgt z.s.m.
URL:https://zang.annemiekebrouwer.nl/agenda/buitenoptreden-verzorgingshuis-humanitas/
END:VEVENT
BEGIN:VEVENT
DTSTART;TZID=Europe/Amsterdam:20210604T201500
DTEND;TZID=Europe/Amsterdam:20210604T221500
DTSTAMP:20260423T114500
CREATED:20210508T130232Z
LAST-MODIFIED:20210525T161043Z
UID:14160-1622837700-1622844900@zang.annemiekebrouwer.nl
SUMMARY:Basso Continue Ensemble repeteert tweewekelijks op dinsdagavond in de even weken. Zangers mogen zich ervoor aanmelden:
DESCRIPTION:Op de dinsdagavond tweewekelijks repeteert het Basso Continuo Ensemble met Luitist\, Barokcellist\, Klaveciniste. \nZij hebben de eerste barokklas begeleid. \nOp het programma van de 1ste barokklas online stond: \nAmor qu’attendi (Caccini) \nAl fonto al prato (Caccini) \nFlow my tears (Downland) \nDido’s Lament (Purcell) \nMusic for a while  (Purcell) \nKwartetzang:  \nNow I see thy looks are feigned (Thomas Ford) \nCome again (Dowland) \nMomenteel zoeken zij naar uitbreiding met barokviolisten om meer repertoire aan te kunnen bieden. \nZangers kunnen gedurende een half uur a 45 minuten hun repertoire komen voorbereiden voor de volgende barokklas en masterclass o.l.v. Jan Cizmar. \nOp 4 mei zong Jet Weigand mee met Fortune my foe. \nOp 18 mei zingt Ton Gerrits mee met If music be the food of love. \nRuim vooraf zijn hun stukken aan het ensemble toegestuurd. \n  \nNieuw repertoire: \nIf music be the food of love (Purcell) \nParatum Cor Meum (Schutz) \nFortune my foe (Dowland) \n 
URL:https://zang.annemiekebrouwer.nl/agenda/basso-continue-ensemble-repeteert-zangers-mogen-zich-ervoor-aanmelden/
END:VEVENT
BEGIN:VEVENT
DTSTART;TZID=Europe/Amsterdam:20210531T143000
DTEND;TZID=Europe/Amsterdam:20210531T153000
DTSTAMP:20260423T114500
CREATED:20210508T125342Z
LAST-MODIFIED:20210525T161313Z
UID:14155-1622471400-1622475000@zang.annemiekebrouwer.nl
SUMMARY:Vocaal Kwartet 1 wekelijks op de maandagmiddag
DESCRIPTION:Elke maandagmiddag van 13.30 tot 14.30 zingt een vocaal kwartet met vier musici diverse stukken om te leren zo muzikaal mogelijk online in Jamulus te werken\, om te genieten\, om samen te zingen op hoog niveau\, om wellicht zelfs binnenkort met de Worldjam mee te zingen. Daar hoor je nog geen klassiek zang\, wat wij graag doorbreken. \nMet o.a. op het programma: \nO magnum Mysterium (Tomas de Victoria) \nCome again sweet Love ( John Dowland) \nNow I see thy looks are feigned (Thomas Ford) \nMille regretz (Josquin des Prez) \nAve Maria (Josquin des Prez) \nFair Phillys I saw (John Farmer 1570-1601) \nDriestemmig: \nPiu non si Trovano (Mozart) \nLuci care (Mozart) \nCon coga Mas (Juan Encine) \n  \n 
URL:https://zang.annemiekebrouwer.nl/agenda/vocaal-kwartet-1-wekelijks-op-de-maandagmiddag/
END:VEVENT
BEGIN:VEVENT
DTSTART;TZID=Europe/Amsterdam:20210528T090000
DTEND;TZID=Europe/Amsterdam:20210528T180000
DTSTAMP:20260423T114500
CREATED:20210527T144803Z
LAST-MODIFIED:20210527T144803Z
UID:14268-1622192400-1622224800@zang.annemiekebrouwer.nl
SUMMARY:Liedjesgroep\, tweewekelijks\, altijd in de even weken!
DESCRIPTION:In de even weken vindt de liedjesgroep plaats. \nDe jongste zangertjes zijn vier en de oudste is 10 jaar. \nMomenteel zijn we één keer weer samen wezen zingen in het plantsoen. \nMorgen vrijdag 28 mei is de eerste Liedjesgroep weer binnen bij Kunstcircuit in lokaal 205 in Deventer om 16.00 uur tot 16.30 uur.  \nLiedjesgroep
URL:https://zang.annemiekebrouwer.nl/agenda/liedjesgroep-tweewekelijks-altijd-in-de-even-weken/
END:VEVENT
BEGIN:VEVENT
DTSTART;TZID=Europe/Amsterdam:20210528T090000
DTEND;TZID=Europe/Amsterdam:20210528T180000
DTSTAMP:20260423T114500
CREATED:20210527T144346Z
LAST-MODIFIED:20210527T153759Z
UID:14265-1622192400-1622224800@zang.annemiekebrouwer.nl
SUMMARY:Live zanglessen
DESCRIPTION:Op vrijdag vinden er wekelijks de hele dag live zanglessen plaats bij Kunstcircuit in Deventer. \nOok op woensdagmiddag is dit tweewekelijks mogelijk. \nAan het Bergschild vinden de overige live zanglessen plaats. \nMocht je liever online zangles in Jamulus krijgen\, laat het me weten. \n \nHillie\, Peter \nGaudi  Minne  Annelies  \n  \n 
URL:https://zang.annemiekebrouwer.nl/agenda/live-zanglessen/
END:VEVENT
BEGIN:VEVENT
DTSTART;TZID=Europe/Amsterdam:20210527T210000
DTEND;TZID=Europe/Amsterdam:20210610T220000
DTSTAMP:20260423T114500
CREATED:20210508T124551Z
LAST-MODIFIED:20210525T161133Z
UID:14149-1622149200-1623362400@zang.annemiekebrouwer.nl
SUMMARY:Vocaal kwartet 2 donderdagavond tweewekelijks 20.00-21.00 uur
DESCRIPTION:Elke donderdagavond in de oneven weken komt er een vocaal kwartet van zangleerlingen bijeen online in Jamulus.  \nMomenteel staat dit op het programma: \n\nO Magnum Mysterium (Tomas de Louis Victoria 1548-1611)\nCome again (John Dowland 1563-1626)\nNow I see thy looks are feigned (Thomas Ford 1580-1648)\nMille regretz (Josquin des Prez 1450/1455-1521)\n\n  \nMocht je in het vocale ensemble mee willen zingen\, stuur een bericht naar info@annemiekebrouwer.nl voor meer informatie. \n 
URL:https://zang.annemiekebrouwer.nl/agenda/vocaal-kwartet-tweewekelijks-20-00-21-00-uur/
END:VEVENT
BEGIN:VEVENT
DTSTART;TZID=Europe/Amsterdam:20210517T203000
DTEND;TZID=Europe/Amsterdam:20210517T213000
DTSTAMP:20260423T114500
CREATED:20210508T124933Z
LAST-MODIFIED:20210508T184509Z
UID:14152-1621283400-1621287000@zang.annemiekebrouwer.nl
SUMMARY:Vocaal kwartet 3 maandagavond tweewekelijks in de even weken
DESCRIPTION:Op maandagavond 17 mei start een nieuwe Vocaal Kwartet Online in Jamulus dat mag uitgroeien tot een (barok)koor. Het is samengesteld uit professionele zangers en vergevorderde amateurs zangers. De repetitie is een uur. Er wordt tweewekelijks gerepeteerd. Alle stukken zijn vooraf door de zangers gekend. \nMet op het programma: \nMille regretz (Josquien des Prez 1450/1455-1521) \nAve Maria (Josquin des Prez 1450/1455-1521) \nFair Phillys I saw (John Farmer 1570-1601) \nOm beurten wordt er repertoire voorgesteld. \nMocht je in het vocale ensemble mee willen zingen\, stuur een bericht naar info@annemiekebrouwer.nl voor meer informatie.
URL:https://zang.annemiekebrouwer.nl/agenda/vocaal-kwartet-3-maandagavond/
END:VEVENT
END:VCALENDAR